BEGIN:VCALENDAR
PRODID:-//hacksw/handcal//NONSGML v1.0//EN
VERSION:2.0
METHOD:PUBLISH
BEGIN:VEVENT
DTSTART:20140424T213000Z
DTEND:20140424T233000Z
LOCATION:The Mountain City Club of Chattanooga
UID:1039020140424T213000ZValuation of Tangible Assets in Today Market
DTSTAMP:20260423T155517Z
DESCRIPTION:\nSarah Campbell Drury is Vice President of Fine and Decorative Arts at Case Antiques Inc. Auctions & Appraisals. Case is a Knoxville-based company which specializes in auctioning and valuing investment quality art and antiques; Sarah runs the company's Nashville office. She is an accredited member of the International Society of Appraisers in the area of Fine Art, Antiques and Residential Contents, and performs USPAP compliant appraisals for insurance, charitable donation, estate and other federal tax purposes. In addition to appraising, Sarah has authored articles on art and antiques for numerous publications, including The Magazine Antiques, Maine Antiques Digest, Silver Magazine, and Antique Week newspaper. She is currently at work on a book about the silver of Andrew Jackson.\n
SUMMARY:Valuation of Tangible Assets in Today Market - Estate Planning Council of Chattanooga 
PRIORITY:3
BEGIN:VALARM
TRIGGER:PT18H
ACTION:DISPLAY
DESCRIPTION:Reminder
END:VALARM
END:VEVENT
END:VCALENDAR