BEGIN:VCALENDAR
PRODID:-//hacksw/handcal//NONSGML v1.0//EN
VERSION:2.0
METHOD:PUBLISH
BEGIN:VEVENT
DTSTART:20140227T223000Z
DTEND:20140228T003000Z
LOCATION:The Mountain City Club of Chattanooga
UID:1033020140227T223000ZReverse Mortgages – When is it a good decision?
DTSTAMP:20260423T153209Z
DESCRIPTION:
SUMMARY:Reverse Mortgages – When is it a good decision? - Estate Planning Council of Chattanooga 
PRIORITY:3
BEGIN:VALARM
TRIGGER:PT18H
ACTION:DISPLAY
DESCRIPTION:Reminder
END:VALARM
END:VEVENT
END:VCALENDAR